BEGIN:VCALENDAR
VERSION:2.0
CALSCALE:GREGORIAN
METHOD:PUBLISH
X-WR-TIMEZONE:Australia/Sydney
BEGIN:VTIMEZONE
TZID:Australia/Sydney
BEGIN:STANDARD
TZNAME:AEST
END:STANDARD
END:VTIMEZONE
BEGIN:VEVENT
DTSTART;TZID=Australia/Sydney:20240812
DTEND;TZID=Australia/Sydney:20240812
RRULE:FREQ=WEEKLY;UNTIL=20240916T000000;BYDAY=MO
DTSTAMP:20260423T195432
UID:99
SUMMARY:Dance - Footsteps
DESCRIPTION:




Every class will be involved in dance lessons as part of the school curriculum. They will be during class on every Monday, working towards a performance at the end of term.


SEQUENCE:0
STATUS:CONFIRMED
TRANSP:OPAQUE
END:VEVENT
END:VCALENDAR